BEGIN:VCALENDAR
VERSION:2.0
PRODID:-//wp-events-plugin.com//7.2.3.1//EN
TZID:America/Los_Angeles
X-WR-TIMEZONE:America/Los_Angeles
BEGIN:VEVENT
UID:1033@davistennisclub.org
DTSTART;TZID=America/Los_Angeles:20260221T093000
DTEND;TZID=America/Los_Angeles:20260221T123000
DTSTAMP:20260208T083638Z
URL:https://davistennisclub.org/events/sata-50-men-7-5-2026-02-21/
SUMMARY:SATA 50+ Men 7.5
DESCRIPTION:Courts 1-3 (Complex A)\n\nDJUSD Permit 10740361
CATEGORIES:Court reservations
LOCATION:Davis Senior High School (DSHS)\, 315 W 14th Street\, Davis\, CA\,
  95616\, United States
X-APPLE-STRUCTURED-LOCATION;VALUE=URI;X-ADDRESS=315 W 14th Street\, Davis\,
  CA\, 95616\, United States;X-APPLE-RADIUS=100;X-TITLE=Davis Senior High S
 chool (DSHS):geo:0,0
END:VEVENT
BEGIN:VTIMEZONE
TZID:America/Los_Angeles
X-LIC-LOCATION:America/Los_Angeles
BEGIN:STANDARD
DTSTART:20251102T010000
TZOFFSETFROM:-0700
TZOFFSETTO:-0800
TZNAME:PST
END:STANDARD
END:VTIMEZONE
END:VCALENDAR